Package: G4SNVHunter Version: 1.1.6 Command: rm -rf G4SNVHunter.buildbin-libdir && mkdir G4SNVHunter.buildbin-libdir && /Users/biocbuild/BBS/utils/build-universal.sh G4SNVHunter_1.1.6.tar.gz /Library/Frameworks/R.framework/Resources/bin/R G4SNVHunter.buildbin-libdir StartedAt: 2025-10-24 23:03:24 -0400 (Fri, 24 Oct 2025) EndedAt: 2025-10-24 23:03:51 -0400 (Fri, 24 Oct 2025) EllapsedTime: 26.5 seconds RetCode: 0 Status: OK PackageFile: G4SNVHunter_1.1.6.tgz PackageFileSize: 1.071 MiB