Package: FuseSOM Version: 1.11.0 Command: /home/biocbuild/bbs-3.22-bioc/R/bin/R CMD check --install=check:FuseSOM.install-out.txt --library=/home/biocbuild/bbs-3.22-bioc/R/site-library --timings FuseSOM_1.11.0.tar.gz StartedAt: 2025-10-27 23:45:10 -0400 (Mon, 27 Oct 2025) EndedAt: 2025-10-27 23:48:51 -0400 (Mon, 27 Oct 2025) EllapsedTime: 221.2 seconds RetCode: 0 Status: OK CheckDir: FuseSOM.Rcheck Warnings: 0