Package: FuseSOM Version: 1.11.0 Command: rm -rf FuseSOM.buildbin-libdir && mkdir FuseSOM.buildbin-libdir && /Users/biocbuild/BBS/utils/build-universal.sh FuseSOM_1.11.0.tar.gz /Library/Frameworks/R.framework/Resources/bin/R FuseSOM.buildbin-libdir StartedAt: 2025-10-25 01:41:01 -0400 (Sat, 25 Oct 2025) EndedAt: 2025-10-25 01:41:44 -0400 (Sat, 25 Oct 2025) EllapsedTime: 42.8 seconds RetCode: 0 Status: OK PackageFile: FuseSOM_1.11.0.tgz PackageFileSize: 2.718 MiB