Package: FlowSOM Version: 2.17.0 Command: /Library/Frameworks/R.framework/Resources/bin/R CMD INSTALL FlowSOM StartedAt: 2025-10-26 15:07:28 -0400 (Sun, 26 Oct 2025) EndedAt: 2025-10-26 15:07:33 -0400 (Sun, 26 Oct 2025) EllapsedTime: 5.6 seconds RetCode: 0 Status: OK