Package: FlowSOM Version: 2.17.0 Command: /Library/Frameworks/R.framework/Resources/bin/R CMD build --keep-empty-dirs --no-resave-data FlowSOM StartedAt: 2025-10-27 16:25:55 -0400 (Mon, 27 Oct 2025) EndedAt: 2025-10-27 16:26:38 -0400 (Mon, 27 Oct 2025) EllapsedTime: 42.5 seconds RetCode: 0 Status: OK PackageFile: FlowSOM_2.17.0.tar.gz PackageFileSize: 4.893 MiB