Package: FitHiC Version: 1.35.0 Command: /home/biocbuild/R/R/bin/R CMD INSTALL FitHiC StartedAt: 2025-10-23 20:17:05 -0000 (Thu, 23 Oct 2025) EndedAt: 2025-10-23 20:17:23 -0000 (Thu, 23 Oct 2025) EllapsedTime: 18.3 seconds RetCode: 0 Status: OK