Package: FitHiC Version: 1.35.0 Command: /home/biocbuild/R/R/bin/R CMD build --keep-empty-dirs --no-resave-data FitHiC StartedAt: 2025-10-20 23:47:00 -0000 (Mon, 20 Oct 2025) EndedAt: 2025-10-20 23:49:29 -0000 (Mon, 20 Oct 2025) EllapsedTime: 149.1 seconds RetCode: 0 Status: OK PackageFile: FitHiC_1.35.0.tar.gz PackageFileSize: 27.66 MiB