Package: FitHiC Version: 1.35.0 Command: /home/biocbuild/bbs-3.22-bioc/R/bin/R CMD check --install=check:FitHiC.install-out.txt --library=/home/biocbuild/bbs-3.22-bioc/R/site-library --timings FitHiC_1.35.0.tar.gz StartedAt: 2025-10-24 23:44:19 -0400 (Fri, 24 Oct 2025) EndedAt: 2025-10-24 23:47:58 -0400 (Fri, 24 Oct 2025) EllapsedTime: 219.3 seconds RetCode: 0 Status: OK CheckDir: FitHiC.Rcheck Warnings: 0