Package: FitHiC Version: 1.35.0 Command: /Library/Frameworks/R.framework/Resources/bin/R CMD INSTALL FitHiC StartedAt: 2025-10-24 15:12:31 -0400 (Fri, 24 Oct 2025) EndedAt: 2025-10-24 15:13:02 -0400 (Fri, 24 Oct 2025) EllapsedTime: 31.0 seconds RetCode: 0 Status: OK