Package: FitHiC Version: 1.35.0 Command: rm -rf FitHiC.buildbin-libdir && mkdir FitHiC.buildbin-libdir && /Users/biocbuild/BBS/utils/build-universal.sh FitHiC_1.35.0.tar.gz /Library/Frameworks/R.framework/Resources/bin/R FitHiC.buildbin-libdir StartedAt: 2025-10-25 01:40:21 -0400 (Sat, 25 Oct 2025) EndedAt: 2025-10-25 01:40:43 -0400 (Sat, 25 Oct 2025) EllapsedTime: 22.1 seconds RetCode: 0 Status: OK PackageFile: FitHiC_1.35.0.tgz PackageFileSize: 27.95 MiB