Package: FinfoMDS Version: 0.99.2 Command: /home/biocbuild/bbs-3.22-bioc/R/bin/R CMD INSTALL FinfoMDS StartedAt: 2025-10-24 15:44:07 -0400 (Fri, 24 Oct 2025) EndedAt: 2025-10-24 15:44:27 -0400 (Fri, 24 Oct 2025) EllapsedTime: 19.7 seconds RetCode: 0 Status: OK