Package: FinfoMDS Version: 0.99.2 Command: /home/biocbuild/bbs-3.22-bioc/R/bin/R CMD build --keep-empty-dirs --no-resave-data --md5 FinfoMDS StartedAt: 2025-10-24 17:48:25 -0400 (Fri, 24 Oct 2025) EndedAt: 2025-10-24 17:49:14 -0400 (Fri, 24 Oct 2025) EllapsedTime: 49.0 seconds RetCode: 0 Status: OK PackageFile: FinfoMDS_0.99.2.tar.gz PackageFileSize: 357.6 KiB