Package: FinfoMDS Version: 1.0.0 Command: /Library/Frameworks/R.framework/Resources/bin/R CMD INSTALL FinfoMDS StartedAt: 2025-11-06 15:10:18 -0500 (Thu, 06 Nov 2025) EndedAt: 2025-11-06 15:10:25 -0500 (Thu, 06 Nov 2025) EllapsedTime: 7.6 seconds RetCode: 0 Status: OK