Package: FinfoMDS Version: 1.0.0 Command: /Library/Frameworks/R.framework/Resources/bin/R CMD build --keep-empty-dirs --no-resave-data FinfoMDS StartedAt: 2025-11-06 16:24:18 -0500 (Thu, 06 Nov 2025) EndedAt: 2025-11-06 16:24:37 -0500 (Thu, 06 Nov 2025) EllapsedTime: 19.2 seconds RetCode: 0 Status: OK PackageFile: FinfoMDS_1.0.0.tar.gz PackageFileSize: 341.5 KiB