Package: FindIT2 Version: 1.15.1 Command: /home/biocbuild/bbs-3.22-bioc/R/bin/R CMD INSTALL FindIT2 StartedAt: 2025-10-24 15:51:41 -0400 (Fri, 24 Oct 2025) EndedAt: 2025-10-24 15:52:18 -0400 (Fri, 24 Oct 2025) EllapsedTime: 37.1 seconds RetCode: 0 Status: OK