Package: FindIT2 Version: 1.15.1 Command: /home/biocbuild/bbs-3.22-bioc/R/bin/R CMD build --keep-empty-dirs --no-resave-data --md5 FindIT2 StartedAt: 2025-10-24 17:48:22 -0400 (Fri, 24 Oct 2025) EndedAt: 2025-10-24 17:49:52 -0400 (Fri, 24 Oct 2025) EllapsedTime: 90.1 seconds RetCode: 0 Status: OK PackageFile: FindIT2_1.15.1.tar.gz PackageFileSize: 2.218 MiB