Package: FindIT2 Version: 1.16.0 Command: /Library/Frameworks/R.framework/Resources/bin/R CMD INSTALL FindIT2 StartedAt: 2025-11-10 15:21:07 -0500 (Mon, 10 Nov 2025) EndedAt: 2025-11-10 15:21:23 -0500 (Mon, 10 Nov 2025) EllapsedTime: 15.8 seconds RetCode: 0 Status: OK