Package: FindIT2 Version: 1.16.0 Command: rm -rf FindIT2.buildbin-libdir && mkdir FindIT2.buildbin-libdir && /Users/biocbuild/BBS/utils/build-universal.sh FindIT2_1.16.0.tar.gz /Library/Frameworks/R.framework/Resources/bin/R FindIT2.buildbin-libdir StartedAt: 2025-11-10 23:20:05 -0500 (Mon, 10 Nov 2025) EndedAt: 2025-11-10 23:20:22 -0500 (Mon, 10 Nov 2025) EllapsedTime: 16.3 seconds RetCode: 0 Status: OK PackageFile: FindIT2_1.16.0.tgz PackageFileSize: 2.442 MiB