Package: FeatSeekR Version: 1.9.0 Command: /home/biocbuild/bbs-3.22-bioc/R/bin/R CMD INSTALL FeatSeekR StartedAt: 2025-10-24 15:41:29 -0400 (Fri, 24 Oct 2025) EndedAt: 2025-10-24 15:41:49 -0400 (Fri, 24 Oct 2025) EllapsedTime: 20.1 seconds RetCode: 0 Status: OK