Package: FeatSeekR Version: 1.9.0 Command: /home/biocbuild/bbs-3.22-bioc/R/bin/R CMD build --keep-empty-dirs --no-resave-data --md5 FeatSeekR StartedAt: 2025-10-24 17:47:36 -0400 (Fri, 24 Oct 2025) EndedAt: 2025-10-24 17:48:07 -0400 (Fri, 24 Oct 2025) EllapsedTime: 31.0 seconds RetCode: 0 Status: OK PackageFile: FeatSeekR_1.9.0.tar.gz PackageFileSize: 357.7 KiB