Package: FastqCleaner Version: 1.27.0 Command: /home/biocbuild/bbs-3.22-bioc/R/bin/R CMD INSTALL FastqCleaner StartedAt: 2025-10-28 15:51:15 -0400 (Tue, 28 Oct 2025) EndedAt: 2025-10-28 15:52:01 -0400 (Tue, 28 Oct 2025) EllapsedTime: 46.1 seconds RetCode: 0 Status: OK