Package: FastqCleaner Version: 1.27.0 Command: /Library/Frameworks/R.framework/Resources/bin/R CMD INSTALL FastqCleaner StartedAt: 2025-10-27 15:40:55 -0400 (Mon, 27 Oct 2025) EndedAt: 2025-10-27 15:41:56 -0400 (Mon, 27 Oct 2025) EllapsedTime: 60.5 seconds RetCode: 0 Status: OK