Package: FastqCleaner Version: 1.27.0 Command: /Library/Frameworks/R.framework/Resources/bin/R CMD INSTALL FastqCleaner StartedAt: 2025-10-28 15:27:18 -0400 (Tue, 28 Oct 2025) EndedAt: 2025-10-28 15:27:35 -0400 (Tue, 28 Oct 2025) EllapsedTime: 16.6 seconds RetCode: 0 Status: OK