Package: FastqCleaner Version: 1.27.0 Command: rm -rf FastqCleaner.buildbin-libdir && mkdir FastqCleaner.buildbin-libdir && /Users/biocbuild/BBS/utils/build-universal.sh FastqCleaner_1.27.0.tar.gz /Library/Frameworks/R.framework/Resources/bin/R FastqCleaner.buildbin-libdir StartedAt: 2025-10-27 23:02:15 -0400 (Mon, 27 Oct 2025) EndedAt: 2025-10-27 23:02:33 -0400 (Mon, 27 Oct 2025) EllapsedTime: 18.4 seconds RetCode: 0 Status: OK PackageFile: FastqCleaner_1.27.0.tgz PackageFileSize: 3.772 MiB