Package: FRASER Version: 2.6.0 Command: /home/biocbuild/bbs-3.22-bioc/R/bin/R CMD INSTALL FRASER StartedAt: 2025-11-03 15:46:15 -0500 (Mon, 03 Nov 2025) EndedAt: 2025-11-03 15:47:39 -0500 (Mon, 03 Nov 2025) EllapsedTime: 84.1 seconds RetCode: 0 Status: OK