Package: FRASER Version: 2.6.0 Command: /home/biocbuild/bbs-3.22-bioc/R/bin/R CMD build --keep-empty-dirs --no-resave-data --md5 FRASER StartedAt: 2025-11-03 17:43:52 -0500 (Mon, 03 Nov 2025) EndedAt: 2025-11-03 17:49:05 -0500 (Mon, 03 Nov 2025) EllapsedTime: 312.3 seconds RetCode: 0 Status: OK PackageFile: FRASER_2.6.0.tar.gz PackageFileSize: 2.623 MiB