Package: FLAMES Version: 2.3.5 Command: /home/biocbuild/bbs-3.22-bioc/R/bin/R CMD INSTALL FLAMES StartedAt: 2025-10-27 15:58:14 -0400 (Mon, 27 Oct 2025) EndedAt: 2025-10-27 16:00:07 -0400 (Mon, 27 Oct 2025) EllapsedTime: 113.0 seconds RetCode: 0 Status: OK