Package: FLAMES Version: 2.3.5 Command: /home/biocbuild/bbs-3.22-bioc/R/bin/R CMD build --keep-empty-dirs --no-resave-data --md5 FLAMES StartedAt: 2025-10-27 17:39:59 -0400 (Mon, 27 Oct 2025) EndedAt: 2025-10-27 17:42:15 -0400 (Mon, 27 Oct 2025) EllapsedTime: 136.2 seconds RetCode: 0 Status: OK PackageFile: FLAMES_2.3.5.tar.gz PackageFileSize: 4.1 MiB