Package: FISHalyseR Version: 1.43.0 Command: /home/biocbuild/bbs-3.22-bioc/R/bin/R CMD INSTALL FISHalyseR StartedAt: 2025-10-27 15:14:21 -0400 (Mon, 27 Oct 2025) EndedAt: 2025-10-27 15:14:25 -0400 (Mon, 27 Oct 2025) EllapsedTime: 4.6 seconds RetCode: 0 Status: OK