Package: FGNet Version: 3.43.0 Command: /Library/Frameworks/R.framework/Resources/bin/R CMD INSTALL FGNet StartedAt: 2025-10-24 15:08:52 -0400 (Fri, 24 Oct 2025) EndedAt: 2025-10-24 15:08:58 -0400 (Fri, 24 Oct 2025) EllapsedTime: 5.5 seconds RetCode: 0 Status: OK