Package: FGNet Version: 3.43.0 Command: /Library/Frameworks/R.framework/Resources/bin/R CMD build --keep-empty-dirs --no-resave-data FGNet StartedAt: 2025-10-24 16:26:29 -0400 (Fri, 24 Oct 2025) EndedAt: 2025-10-24 16:26:37 -0400 (Fri, 24 Oct 2025) EllapsedTime: 8.1 seconds RetCode: 0 Status: OK PackageFile: FGNet_3.43.0.tar.gz PackageFileSize: 2.721 MiB