Package: FELLA Version: 1.29.0 Command: /home/biocbuild/bbs-3.22-bioc/R/bin/R CMD build --keep-empty-dirs --no-resave-data --md5 FELLA StartedAt: 2025-10-24 17:47:41 -0400 (Fri, 24 Oct 2025) EndedAt: 2025-10-24 18:08:23 -0400 (Fri, 24 Oct 2025) EllapsedTime: 1242.2 seconds RetCode: 0 Status: OK PackageFile: FELLA_1.29.0.tar.gz PackageFileSize: 4.15 MiB