Package: FEAST Version: 1.17.0 Command: /home/biocbuild/bbs-3.22-bioc/R/bin/R CMD INSTALL FEAST StartedAt: 2025-10-24 15:52:58 -0400 (Fri, 24 Oct 2025) EndedAt: 2025-10-24 15:53:28 -0400 (Fri, 24 Oct 2025) EllapsedTime: 29.6 seconds RetCode: 0 Status: OK