Package: ExpressionAtlas Version: 2.1.1 Command: /home/biocbuild/bbs-3.22-bioc/R/bin/R CMD INSTALL ExpressionAtlas StartedAt: 2025-10-24 16:01:11 -0400 (Fri, 24 Oct 2025) EndedAt: 2025-10-24 16:01:36 -0400 (Fri, 24 Oct 2025) EllapsedTime: 24.1 seconds RetCode: 0 Status: OK