Package: ExpressionAtlas Version: 2.1.1 Command: /home/biocbuild/bbs-3.22-bioc/R/bin/R CMD check --install=check:ExpressionAtlas.install-out.txt --library=/home/biocbuild/bbs-3.22-bioc/R/site-library --timings ExpressionAtlas_2.1.1.tar.gz StartedAt: 2025-10-23 23:30:49 -0400 (Thu, 23 Oct 2025) EndedAt: 2025-10-23 23:34:07 -0400 (Thu, 23 Oct 2025) EllapsedTime: 198.2 seconds RetCode: 0 Status: OK CheckDir: ExpressionAtlas.Rcheck Warnings: 0