Package: ExpressionAtlas Version: 2.1.1 Command: /Library/Frameworks/R.framework/Resources/bin/R CMD INSTALL ExpressionAtlas StartedAt: 2025-10-24 15:48:37 -0400 (Fri, 24 Oct 2025) EndedAt: 2025-10-24 15:49:10 -0400 (Fri, 24 Oct 2025) EllapsedTime: 33.1 seconds RetCode: 0 Status: OK