Package: ExpressionAtlas Version: 2.1.1 Command: /Library/Frameworks/R.framework/Resources/bin/R CMD build --keep-empty-dirs --no-resave-data ExpressionAtlas StartedAt: 2025-10-24 17:03:53 -0400 (Fri, 24 Oct 2025) EndedAt: 2025-10-24 17:04:32 -0400 (Fri, 24 Oct 2025) EllapsedTime: 38.8 seconds RetCode: 0 Status: OK PackageFile: ExpressionAtlas_2.1.1.tar.gz PackageFileSize: 319 KiB