Package: ExpressionAtlas Version: 2.1.1 Command: /Library/Frameworks/R.framework/Resources/bin/R CMD INSTALL ExpressionAtlas StartedAt: 2025-10-23 15:26:46 -0400 (Thu, 23 Oct 2025) EndedAt: 2025-10-23 15:26:55 -0400 (Thu, 23 Oct 2025) EllapsedTime: 9.2 seconds RetCode: 0 Status: OK