Package: ExpressionAtlas Version: 2.1.1 Maintainer: Anil Thanki MaintainerEmail: anilthanki at ebi.ac.uk git_url: https://git.bioconductor.org/packages/ExpressionAtlas git_branch: devel git_last_commit: ff253c4 git_last_commit_date: 2025-09-16 09:06:07 -0400 (Tue, 16 Sep 2025)