Package: ExploreModelMatrix Version: 1.21.2 Command: /home/biocbuild/R/R/bin/R CMD INSTALL ExploreModelMatrix StartedAt: 2025-10-23 20:31:26 -0000 (Thu, 23 Oct 2025) EndedAt: 2025-10-23 20:31:37 -0000 (Thu, 23 Oct 2025) EllapsedTime: 11.4 seconds RetCode: 0 Status: OK