Package: ExploreModelMatrix Version: 1.21.2 Command: /Library/Frameworks/R.framework/Resources/bin/R CMD INSTALL ExploreModelMatrix StartedAt: 2025-10-24 15:22:31 -0400 (Fri, 24 Oct 2025) EndedAt: 2025-10-24 15:22:50 -0400 (Fri, 24 Oct 2025) EllapsedTime: 18.7 seconds RetCode: 0 Status: OK