Package: ExploreModelMatrix Version: 1.21.2 Command: /Library/Frameworks/R.framework/Resources/bin/R CMD build --keep-empty-dirs --no-resave-data ExploreModelMatrix StartedAt: 2025-10-24 17:03:41 -0400 (Fri, 24 Oct 2025) EndedAt: 2025-10-24 17:04:04 -0400 (Fri, 24 Oct 2025) EllapsedTime: 22.8 seconds RetCode: 0 Status: OK PackageFile: ExploreModelMatrix_1.21.2.tar.gz PackageFileSize: 2.611 MiB