Package: ExperimentSubset Version: 1.20.0 Command: /Library/Frameworks/R.framework/Resources/bin/R CMD INSTALL ExperimentSubset StartedAt: 2025-11-03 15:30:53 -0500 (Mon, 03 Nov 2025) EndedAt: 2025-11-03 15:31:38 -0500 (Mon, 03 Nov 2025) EllapsedTime: 44.4 seconds RetCode: 0 Status: OK