Package: ExperimentSubset Version: 1.19.0 Command: /Library/Frameworks/R.framework/Resources/bin/R CMD INSTALL ExperimentSubset StartedAt: 2025-10-24 15:17:57 -0400 (Fri, 24 Oct 2025) EndedAt: 2025-10-24 15:18:11 -0400 (Fri, 24 Oct 2025) EllapsedTime: 13.8 seconds RetCode: 0 Status: OK