Package: ExperimentSubset Version: 1.19.0 Command: rm -rf ExperimentSubset.buildbin-libdir && mkdir ExperimentSubset.buildbin-libdir && /Users/biocbuild/BBS/utils/build-universal.sh ExperimentSubset_1.19.0.tar.gz /Library/Frameworks/R.framework/Resources/bin/R ExperimentSubset.buildbin-libdir StartedAt: 2025-10-24 23:02:38 -0400 (Fri, 24 Oct 2025) EndedAt: 2025-10-24 23:02:54 -0400 (Fri, 24 Oct 2025) EllapsedTime: 15.4 seconds RetCode: 0 Status: OK PackageFile: ExperimentSubset_1.19.0.tgz PackageFileSize: 710.7 KiB