Package: ExperimentHubData Version: 1.36.0 Command: /Library/Frameworks/R.framework/Resources/bin/R CMD INSTALL ExperimentHubData StartedAt: 2025-11-02 15:48:05 -0500 (Sun, 02 Nov 2025) EndedAt: 2025-11-02 15:49:02 -0500 (Sun, 02 Nov 2025) EllapsedTime: 56.8 seconds RetCode: 0 Status: OK