Package: ExperimentHubData Version: 1.36.0 Command: /Library/Frameworks/R.framework/Resources/bin/R CMD build --keep-empty-dirs --no-resave-data ExperimentHubData StartedAt: 2025-11-02 17:03:13 -0500 (Sun, 02 Nov 2025) EndedAt: 2025-11-02 17:03:59 -0500 (Sun, 02 Nov 2025) EllapsedTime: 46.7 seconds RetCode: 0 Status: OK PackageFile: ExperimentHubData_1.36.0.tar.gz PackageFileSize: 223 KiB