Package: ExperimentHubData Version: 1.36.0 Command: rm -rf ExperimentHubData.buildbin-libdir && mkdir ExperimentHubData.buildbin-libdir && /Users/biocbuild/BBS/utils/build-universal.sh ExperimentHubData_1.36.0.tar.gz /Library/Frameworks/R.framework/Resources/bin/R ExperimentHubData.buildbin-libdir StartedAt: 2025-11-01 01:33:51 -0400 (Sat, 01 Nov 2025) EndedAt: 2025-11-01 01:34:50 -0400 (Sat, 01 Nov 2025) EllapsedTime: 58.9 seconds RetCode: 0 Status: OK PackageFile: ExperimentHubData_1.36.0.tgz PackageFileSize: 517.6 KiB