Package: ExperimentHubData Version: 1.35.0 Command: /Library/Frameworks/R.framework/Resources/bin/R CMD build --keep-empty-dirs --no-resave-data ExperimentHubData StartedAt: 2025-10-24 16:25:13 -0400 (Fri, 24 Oct 2025) EndedAt: 2025-10-24 16:25:30 -0400 (Fri, 24 Oct 2025) EllapsedTime: 17.2 seconds RetCode: 0 Status: OK PackageFile: ExperimentHubData_1.35.0.tar.gz PackageFileSize: 222.9 KiB