Package: ExperimentHubData Version: 1.35.0 Command: rm -rf ExperimentHubData.buildbin-libdir && mkdir ExperimentHubData.buildbin-libdir && /Users/biocbuild/BBS/utils/build-universal.sh ExperimentHubData_1.35.0.tar.gz /Library/Frameworks/R.framework/Resources/bin/R ExperimentHubData.buildbin-libdir StartedAt: 2025-10-24 23:02:38 -0400 (Fri, 24 Oct 2025) EndedAt: 2025-10-24 23:02:56 -0400 (Fri, 24 Oct 2025) EllapsedTime: 17.4 seconds RetCode: 0 Status: OK PackageFile: ExperimentHubData_1.35.0.tgz PackageFileSize: 518.1 KiB